BEGIN:VCALENDAR
VERSION:2.0
PRODID:-//District 10 Indivisible for All - ECPv6.15.20//NONSGML v1.0//EN
CALSCALE:GREGORIAN
METHOD:PUBLISH
X-WR-CALNAME:District 10 Indivisible for All
X-ORIGINAL-URL:https://difa.us
X-WR-CALDESC:Events for District 10 Indivisible for All
REFRESH-INTERVAL;VALUE=DURATION:PT1H
X-Robots-Tag:noindex
X-PUBLISHED-TTL:PT1H
BEGIN:VTIMEZONE
TZID:America/Detroit
BEGIN:DAYLIGHT
TZOFFSETFROM:-0500
TZOFFSETTO:-0400
TZNAME:EDT
DTSTART:20240310T070000
END:DAYLIGHT
BEGIN:STANDARD
TZOFFSETFROM:-0400
TZOFFSETTO:-0500
TZNAME:EST
DTSTART:20241103T060000
END:STANDARD
BEGIN:DAYLIGHT
TZOFFSETFROM:-0500
TZOFFSETTO:-0400
TZNAME:EDT
DTSTART:20250309T070000
END:DAYLIGHT
BEGIN:STANDARD
TZOFFSETFROM:-0400
TZOFFSETTO:-0500
TZNAME:EST
DTSTART:20251102T060000
END:STANDARD
BEGIN:DAYLIGHT
TZOFFSETFROM:-0500
TZOFFSETTO:-0400
TZNAME:EDT
DTSTART:20260308T070000
END:DAYLIGHT
BEGIN:STANDARD
TZOFFSETFROM:-0400
TZOFFSETTO:-0500
TZNAME:EST
DTSTART:20261101T060000
END:STANDARD
BEGIN:DAYLIGHT
TZOFFSETFROM:-0500
TZOFFSETTO:-0400
TZNAME:EDT
DTSTART:20270314T070000
END:DAYLIGHT
BEGIN:STANDARD
TZOFFSETFROM:-0400
TZOFFSETTO:-0500
TZNAME:EST
DTSTART:20271107T060000
END:STANDARD
END:VTIMEZONE
BEGIN:VEVENT
DTSTART;VALUE=DATE:20251018
DTEND;VALUE=DATE:20251019
DTSTAMP:20260421T151359
CREATED:20250904T113716Z
LAST-MODIFIED:20250904T114100Z
UID:2082-1760745600-1760831999@difa.us
SUMMARY:No Kings
DESCRIPTION:SAVE THE DATE! \nLocation and Time will be updated once details have been determined.
URL:https://difa.us/event/no-kings/
LOCATION:Ohio
ATTACH;FMTTYPE=image/jpeg:https://difa.us/wp-content/uploads/2025/09/Image-1-1.jpg
END:VEVENT
BEGIN:VEVENT
DTSTART;TZID=America/Detroit:20250826T180000
DTEND;TZID=America/Detroit:20250826T200000
DTSTAMP:20260421T151359
CREATED:20250825T211748Z
LAST-MODIFIED:20250825T211748Z
UID:2073-1756231200-1756238400@difa.us
SUMMARY:Woman's Equality Day
DESCRIPTION:Celebrate Women’s Equality Day by fighting back against losing our rights.
URL:https://difa.us/event/womans-equality-day/
LOCATION:Christ Episcopal Church\, 20 W. 1st St\, Dayton\, OH\, United States
ATTACH;FMTTYPE=image/jpeg:https://difa.us/wp-content/uploads/2025/08/33F735E1-D20B-4FEF-9D1E-25F956169F17.jpg
END:VEVENT
BEGIN:VEVENT
DTSTART;TZID=America/Detroit:20250901T110000
DTEND;TZID=America/Detroit:20250901T130000
DTSTAMP:20260421T151359
CREATED:20250825T215728Z
LAST-MODIFIED:20250825T215728Z
UID:2077-1756724400-1756731600@difa.us
SUMMARY:Dayton/Montgomery Co #WorkersOverBillionaires Labor Day
DESCRIPTION:About this event\n\n\n\n\n\n\n\ncommunities are planning more than a barbecue on Labor Day this year because we have to stop the billionaire takeover.** Billionaires are converting the government into their private slush fund and just passed the largest wealth giveaway in the history of the US. The money they take from working families\, they put in billionaires’ pockets and set aside to fund a private army of ICE agents. \nJust like any bad boss\, the way we stop the takeover is with collective action. We are working people rising up to stop the billionaire takeover–not just through the ballot box or the courts\, but through building a bigger and stronger movement. We are growing our movement and fighting for a country that is more fair\, just\, equitable\, and free for all of us—and not just a chosen few. \nOn September 1st we will continue the movement\, standing in solidarity with all our communities under attack and fighting for real wins for all our people. \nThousands of communities across the country are taking a stand on Labor Day\, join us! We will be in the streets\, outside the offices of the corporate criminals who are behind the attacks on our freedoms\, and at congressional offices. Together we will demand a country that puts workers over billionaires. \nOUR DEMANDS TO BUILD THE SOCIETY WE ALL DESERVE: \n\nStop the billionaire takeover corrupting our government.\nProtect and defend Medicaid\, Social Security\, and other programs for working people.\nFully funded schools\, and healthcare and housing for all.\nStop the attacks on immigrants\, Black\, indigenous\, trans people\, and all our communities.\nInvest in people not wars.\n\nPlease note: A core principle behind all our events is a commitment to nonviolent action. We expect all participants to seek to de-escalate any potential confrontation with those who disagree with our values. Weapons of any kind\, including those legally permitted\, should not be brought to events.
URL:https://difa.us/event/dayton-montgomery-co-workersoverbillionaires-labor-day/
LOCATION:https://www.mobilize.us/mayday/event/830217/
ATTACH;FMTTYPE=image/avif:https://difa.us/wp-content/uploads/2025/08/1_20250811225359881906.avif
END:VEVENT
BEGIN:VEVENT
DTSTART;TZID=America/Detroit:20260327T160000
DTEND;TZID=America/Detroit:20260327T190000
DTSTAMP:20260421T151359
CREATED:20260318T162949Z
LAST-MODIFIED:20260318T162949Z
UID:2114-1774627200-1774638000@difa.us
SUMMARY:Sign Making
DESCRIPTION:Help make signs for the upcoming No King’s Protest
URL:https://difa.us/event/sign-making/
LOCATION:Yellow Cab Tavern\, 700 E 4th St\, Ohio\, 45402
ATTACH;FMTTYPE=image/jpeg:https://difa.us/wp-content/uploads/2026/03/Image-1.jpg
END:VEVENT
BEGIN:VEVENT
DTSTART;TZID=America/Detroit:20260328T130000
DTEND;TZID=America/Detroit:20260328T150000
DTSTAMP:20260421T151359
CREATED:20260206T021950Z
LAST-MODIFIED:20260317T165341Z
UID:2107-1774702800-1774710000@difa.us
SUMMARY:No Kings Protest 3.0
DESCRIPTION:We have the power and are claiming it together. No Thrones. No Crowns. No Kings. \nWhat began in 2025 as a single day of defiance has become a sustained national resistance to tyranny\, spreading from small towns to city centers and across every community determined to defend democracy. Our peaceful movement is bigger than ever. \nWhen our families are under attack and costs are pushing people to the brink\, silence is not an option. We will defend ourselves and our communities against this administration’s unjust and cruel acts of violence. \nOn March 28th\, rise up\, take to the streets\, and say it loud: no thrones\, no crowns\, no kings. We’re not watching history happen—we’re making it. Join us. \nA core principle behind all No Kings events is a commitment to nonviolent action. We expect all participants to seek to de-escalate any potential confrontation with those who disagree with our values and to act lawfully at these events. Weapons of any kind\, including those legally permitted\, should not be brought to events.
URL:https://difa.us/event/save-the-date-no-kings-protest/
LOCATION:Courthouse Square\, 23 N Main St\, Dayton\, OH\, 45402\, United States
ATTACH;FMTTYPE=image/jpeg:https://difa.us/wp-content/uploads/2026/02/IMG_7333.jpg
END:VEVENT
END:VCALENDAR