BEGIN:VCALENDAR
VERSION:2.0
PRODID:-//District 10 Indivisible for All - ECPv6.15.20//NONSGML v1.0//EN
CALSCALE:GREGORIAN
METHOD:PUBLISH
X-WR-CALNAME:District 10 Indivisible for All
X-ORIGINAL-URL:https://difa.us
X-WR-CALDESC:Events for District 10 Indivisible for All
REFRESH-INTERVAL;VALUE=DURATION:PT1H
X-Robots-Tag:noindex
X-PUBLISHED-TTL:PT1H
BEGIN:VTIMEZONE
TZID:America/Detroit
BEGIN:DAYLIGHT
TZOFFSETFROM:-0500
TZOFFSETTO:-0400
TZNAME:EDT
DTSTART:20240310T070000
END:DAYLIGHT
BEGIN:STANDARD
TZOFFSETFROM:-0400
TZOFFSETTO:-0500
TZNAME:EST
DTSTART:20241103T060000
END:STANDARD
BEGIN:DAYLIGHT
TZOFFSETFROM:-0500
TZOFFSETTO:-0400
TZNAME:EDT
DTSTART:20250309T070000
END:DAYLIGHT
BEGIN:STANDARD
TZOFFSETFROM:-0400
TZOFFSETTO:-0500
TZNAME:EST
DTSTART:20251102T060000
END:STANDARD
BEGIN:DAYLIGHT
TZOFFSETFROM:-0500
TZOFFSETTO:-0400
TZNAME:EDT
DTSTART:20260308T070000
END:DAYLIGHT
BEGIN:STANDARD
TZOFFSETFROM:-0400
TZOFFSETTO:-0500
TZNAME:EST
DTSTART:20261101T060000
END:STANDARD
END:VTIMEZONE
BEGIN:VEVENT
DTSTART;VALUE=DATE:20251018
DTEND;VALUE=DATE:20251019
DTSTAMP:20260421T222506
CREATED:20250904T113716Z
LAST-MODIFIED:20250904T114100Z
UID:2082-1760745600-1760831999@difa.us
SUMMARY:No Kings
DESCRIPTION:SAVE THE DATE! \nLocation and Time will be updated once details have been determined.
URL:https://difa.us/event/no-kings/
LOCATION:Ohio
ATTACH;FMTTYPE=image/jpeg:https://difa.us/wp-content/uploads/2025/09/Image-1-1.jpg
END:VEVENT
BEGIN:VEVENT
DTSTART;TZID=America/Detroit:20250524T100000
DTEND;TZID=America/Detroit:20250524T180000
DTSTAMP:20260421T222506
CREATED:20250612T130931Z
LAST-MODIFIED:20250612T130931Z
UID:1896-1748080800-1748109600@difa.us
SUMMARY:Baby Trump Ballon in Dayton during NATO
DESCRIPTION:Baby Trump will be making an appearance in the protest zone during NATO! Make your signs\, bring your chants\, noise makers and voices to show all eyes on Dayton that we are not happ… \nSee more
URL:https://difa.us/event/baby-trump-ballon-in-dayton-during-nato/
LOCATION:Protest Zone\, 124 E Second St\, Dayton\, OH\, 45402\, United States
ATTACH;FMTTYPE=image/jpeg:https://difa.us/wp-content/uploads/2025/06/Baby-Trum.jpg
END:VEVENT
END:VCALENDAR